BEGIN:VCALENDAR
PRODID:-//AT Content Types//AT Event//EN
VERSION:2.0
METHOD:PUBLISH
BEGIN:VEVENT
DTSTAMP:20260424T071136Z
CREATED:20150221T174449Z
UID:ATEvent-134a8953b448a86b665e4609a36b2c7e
LAST-MODIFIED:20150221T174458Z
SUMMARY:Egyházmegyei Közgyűlés Arnóton
DTSTART:20150131T090000Z
DTEND:20150131T110000Z
DESCRIPTION:A közgyűlésen  egyházmegyei felügyelő jelölésére 
 kerül sor a Jelölő Bizottsághoz beérkezett jelölések alapján.\
 nA gyülekezetekben történő választási eredményeket és a másod
 felügyelői jelölést február 25-éig kell elküldeni a Jelölő Bi
 zottságnak.
CLASS:PUBLIC
END:VEVENT
END:VCALENDAR
